BEGIN:VCALENDAR
VERSION:2.0
PRODID:-//hacksw/handcal//NONSGML v1.0//EN
BEGIN:VEVENT
SUMMARY:Defi VITAL (Fete du sport)
UID:30f9e847-6bae-4ba6-9d9a-ca90d6c54111
DTSTART:20260620T133000Z
DTEND:20260620T143000Z
LOCATION:Localisation   
CATEGORIES:Sportif
STATUS:
DESCRIPTION:<p style="text-align:center;"><span
 style="font-size:26px;"><strong>Defi « VITAL »</strong></span><br
 />
 <strong>V</strong>elo <strong>I</strong>ndurance
 <strong>T</strong>ir <strong>A</strong>rchery &
 <strong>L</strong>aser run</p>
 
 <p style="text-align:center;"><span
 style="font-size:20px;">Fete du sport et de la musique</span></p>
 
 <p
 style="text-align:center;"><span style="font-size:14px;">Samedi 20
 juin 2026 de 15h30 a 16h30</span></p>
 
 <p
 style="text-align:center;">Parc du souvenir francais (Pres de la
 mairie)</p>
 
 <p>Ce defi, sous forme de triathlon, consiste en trois
 boucles de course d'un kilometre ponctuees de passage aux stands de
 tir Laser, Tir a l'arc et d'Endurance velo.</p>
 
 <ul>
 	<li><strong>La
 pratique du sport est un imperatif</strong> (Licence club de sport
 validant un certificat medical ou une attestation etat de
 sante).</li>
 	<li>Une initiation <strong>obligatoire </strong>au tir
 a l'arc (Manipulation d'une arme) sera mise en place jusqu'a 15h au
 stand de tir a l'arc.</li>
 </ul>
 
 <p style="text-align:center;"><span
 style="color:#c0392b;"><strong>Merci de vous inscrire au prealable au
 travers du formulaire ci-dessous. </strong></span></p>
 
 <p
 style="text-align:center;"><span
 style="color:#c0392b;"><strong>Inscriptions ouvertes jusqu'au 18 juin
 2026</strong></span></p>
 
 <p>Ce defi est organise par le collectif
 sportif represente par : </p>
 
 <ul>
 	<li>ASVCM Aventure
 Pedestre</li>
 	<li>ASVCM Cyclotourisme</li>
 	<li>Les Archers du
 Phenix</li>
 	<li>Pentathlon moderne</li>
 	<li>Velo Club de
 Chatenay</li>
 </ul>
URL;VALUE=URI:https://www.archers-du-phenix.fr/evenements/2026/06/20/defi-vital-fete-du-sport-2443511
END:VEVENT
END:VCALENDAR
